BEGIN:VCALENDAR
VERSION:2.0
PRODID:-//TGS01 - ECPv6.15.20//NONSGML v1.0//EN
CALSCALE:GREGORIAN
METHOD:PUBLISH
X-ORIGINAL-URL:https://tattenhallgardensociety.co.uk
X-WR-CALDESC:Events for TGS01
REFRESH-INTERVAL;VALUE=DURATION:PT1H
X-Robots-Tag:noindex
X-PUBLISHED-TTL:PT1H
BEGIN:VTIMEZONE
TZID:Europe/London
BEGIN:DAYLIGHT
TZOFFSETFROM:+0000
TZOFFSETTO:+0100
TZNAME:BST
DTSTART:20220327T010000
END:DAYLIGHT
BEGIN:STANDARD
TZOFFSETFROM:+0100
TZOFFSETTO:+0000
TZNAME:GMT
DTSTART:20221030T010000
END:STANDARD
BEGIN:DAYLIGHT
TZOFFSETFROM:+0000
TZOFFSETTO:+0100
TZNAME:BST
DTSTART:20230326T010000
END:DAYLIGHT
BEGIN:STANDARD
TZOFFSETFROM:+0100
TZOFFSETTO:+0000
TZNAME:GMT
DTSTART:20231029T010000
END:STANDARD
BEGIN:DAYLIGHT
TZOFFSETFROM:+0000
TZOFFSETTO:+0100
TZNAME:BST
DTSTART:20240331T010000
END:DAYLIGHT
BEGIN:STANDARD
TZOFFSETFROM:+0100
TZOFFSETTO:+0000
TZNAME:GMT
DTSTART:20241027T010000
END:STANDARD
END:VTIMEZONE
BEGIN:VEVENT
DTSTART;TZID=Europe/London:20230714T173000
DTEND;TZID=Europe/London:20230714T210000
DTSTAMP:20260425T164039
CREATED:20230710T153220Z
LAST-MODIFIED:20230710T153221Z
UID:740-1689355800-1689368400@tattenhallgardensociety.co.uk
SUMMARY:SUMMER VISIT 1 - Lisa Borghesi & Chester Zoo Nature Reserve with Chloe Aldridge
DESCRIPTION:This is a joint trip to visit two sites to the northern outskirts of Chester. \n\n\n\nTransport is not provided and participants need to make their own way to the sites – car sharing is encouraged (there is limited parking at Cheshire Market Gardens). \n\n\n\nWe will be meeting at Cheshire Market Gardens on Mannings Lane at 17.30 to see the ‘no-dig’ garden of Lisa Borghesi who came to speak to us last October. \n\n\n\nhttps://www.cheshiremarketgardens.com/ https://www.instagram.com/cheshiremarketgardens/?hl=en-gb \n\n\n\nAt approximately 18.30 we will move onto the Chester Zoo Nature Reserve\, where you can choose to follow the guided tour of the reserve with Chloe Aldridge (also a previous TGS speaker on several occasions) or follow your own path. The car park closes at 21.00 so we will need to leave before then! \n\n\n\nPre-booking IN ADVANCE only please (ASAP now).  Please pay via bank transfer to the Tattenhall Gardening Society account then email the society email address confirming the number & names of attendees.  Any queries to the TGS email address (detailed on page header). \n\n\n\n  \nCHESHIRE MARKET GARDENS \nWhat3Words: poet.sketch.community \n\n\n\nGoogle point: 53°12’41.6″N 2°51’37.3″W \n\n\n\nhttps://goo.gl/maps/wvw3Wt6gUsViR6D78 \n\n\n\nCHESTER ZOO NATURE RESERVE \nwhat3words: push.banana.seated \nGoogle point: 53°13’42.6″N 2°53’10.7″W \nhttps://goo.gl/maps/g6k5311nXC9L7Yws8
URL:https://tattenhallgardensociety.co.uk/event/summer-visit-1-lisa-borghesi-chester-zoo-nature-reserve-with-chloe-aldridge/
LOCATION:Cheshire Market Gardens\, Mannings Lane\, Chester\, Cheshire\, CH2 4ET\, United Kingdom
CATEGORIES:Garden Visit
ATTACH;FMTTYPE=image/jpeg:https://tattenhallgardensociety.co.uk/wp-content/uploads/2023/07/21BEFE45-CF70-487A-AC8D-DE859F9C91EE.jpeg
END:VEVENT
BEGIN:VEVENT
DTSTART;TZID=Europe/London:20230715T100000
DTEND;TZID=Europe/London:20230715T160000
DTSTAMP:20260425T164039
CREATED:20230703T175415Z
LAST-MODIFIED:20230710T154034Z
UID:730-1689415200-1689436800@tattenhallgardensociety.co.uk
SUMMARY:OPEN GARDEN & ART STUDIO - MINTOPIA & LOUISA BOYD
DESCRIPTION:Si Poole is the holder of one of the National Plant Collections of Mint and has previously given us a fascinating talk on his mint collection (May 2022). \nSi will be opening his garden in conjunction with an Open Art Studio for Louisa Boyd on Saturday 15th July – this is a fabulous opportunity to see a lovely garden\, expand your mint collection and see some amazing artwork inspired by our beautiful local countryside. \nLouisa’s Art studio will also be open on Sunday 16th July 10am-4pm BUT THE GARDEN IS NOT OPEN ON THIS DAY \nDIRECTIONS \nFullersmoor Cottage\, Brown Knowl\, CH3  what3words///captive.jolly.shook \nAccess is via Sherrington Lane\, third drive on the right as you turn to Brown Knowl by The Sandstone Pub (CH3 9JH what3words ///rectangular.phantom.conforms).  Look for an ‘Open Studio’ sign and a circular arch on the driveway.   \nIf you are coming by car\, you are welcome to park on the pub car park.
URL:https://tattenhallgardensociety.co.uk/event/open-garden-art-studio-mintopia-louisa-boyd/
LOCATION:Mintopia\, Fullersmoor Cottage\, Brown Knowl\, Cheshire\, CH3 9JY\, United Kingdom
ATTACH;FMTTYPE=image/jpeg:https://tattenhallgardensociety.co.uk/wp-content/uploads/2023/07/75E6B205-BD11-4798-AD6B-011F357CFF0E-scaled.jpeg
END:VEVENT
BEGIN:VEVENT
DTSTART;TZID=Europe/London:20230728T143000
DTEND;TZID=Europe/London:20230728T143000
DTSTAMP:20260425T164039
CREATED:20230710T164027Z
LAST-MODIFIED:20230710T164029Z
UID:750-1690554600-1690554600@tattenhallgardensociety.co.uk
SUMMARY:SUMMER VISIT 2 - Garden Visit Crewe Hill\, Crewe-by-Farndon
DESCRIPTION:TGS have arranged a private view of the garden at Crewe Hill in Crewe-by-Farndon\, part of the Barnston Estate \nCrewe Hill has been a family home since the late 18th century and underwent a major garden restoration project in the 1980s. Having travelled the world in the course of work\, Michael and Inger returned to Cheshire in 1983 and started to create a garden that would reflect their travels and love of unusual trees and shrubs.  \nWe hope to have an introductory talk by the head gardener but this is still tbc. Start time is 14.30. \nCost will be £5 per person (whether member or not). \nPayment in advance only\, please pay via bank transfer to the TGS account then confirm the numbers and names attending to the TGS email address(see top of page).  An e-mail has been sent to members with the bank details but non-members can contact our e-mail address for details. \nPlease share transport if possible. More detailed directions will be sent on to attendees nearer the time.  \n 
URL:https://tattenhallgardensociety.co.uk/event/summer-visit-2-garden-visit-crewe-hill-crewe-by-farndon/
LOCATION:Cheshire
CATEGORIES:Garden Visit
ATTACH;FMTTYPE=image/jpeg:https://tattenhallgardensociety.co.uk/wp-content/uploads/2023/07/40FB6419-9B36-4D3F-A4CE-44EAF60FD467.jpeg
END:VEVENT
END:VCALENDAR