BEGIN:VCALENDAR
VERSION:2.0
PRODID:-//TGS01 - ECPv6.15.20//NONSGML v1.0//EN
CALSCALE:GREGORIAN
METHOD:PUBLISH
X-WR-CALNAME:TGS01
X-ORIGINAL-URL:https://tattenhallgardensociety.co.uk
X-WR-CALDESC:Events for TGS01
REFRESH-INTERVAL;VALUE=DURATION:PT1H
X-Robots-Tag:noindex
X-PUBLISHED-TTL:PT1H
BEGIN:VTIMEZONE
TZID:Europe/London
BEGIN:DAYLIGHT
TZOFFSETFROM:+0000
TZOFFSETTO:+0100
TZNAME:BST
DTSTART:20210328T010000
END:DAYLIGHT
BEGIN:STANDARD
TZOFFSETFROM:+0100
TZOFFSETTO:+0000
TZNAME:GMT
DTSTART:20211031T010000
END:STANDARD
BEGIN:DAYLIGHT
TZOFFSETFROM:+0000
TZOFFSETTO:+0100
TZNAME:BST
DTSTART:20220327T010000
END:DAYLIGHT
BEGIN:STANDARD
TZOFFSETFROM:+0100
TZOFFSETTO:+0000
TZNAME:GMT
DTSTART:20221030T010000
END:STANDARD
BEGIN:DAYLIGHT
TZOFFSETFROM:+0000
TZOFFSETTO:+0100
TZNAME:BST
DTSTART:20230326T010000
END:DAYLIGHT
BEGIN:STANDARD
TZOFFSETFROM:+0100
TZOFFSETTO:+0000
TZNAME:GMT
DTSTART:20231029T010000
END:STANDARD
BEGIN:DAYLIGHT
TZOFFSETFROM:+0000
TZOFFSETTO:+0100
TZNAME:BST
DTSTART:20240331T010000
END:DAYLIGHT
BEGIN:STANDARD
TZOFFSETFROM:+0100
TZOFFSETTO:+0000
TZNAME:GMT
DTSTART:20241027T010000
END:STANDARD
END:VTIMEZONE
BEGIN:VEVENT
DTSTART;TZID=Europe/London:20230604T140000
DTEND;TZID=Europe/London:20230604T173000
DTSTAMP:20260425T200230
CREATED:20230412T143605Z
LAST-MODIFIED:20230508T153935Z
UID:360-1685887200-1685899800@tattenhallgardensociety.co.uk
SUMMARY:NGS Garden: Tattenhall Hall
DESCRIPTION:Local Garden in Tattenhall Village open for the National Garden Scheme. \nPlant enthusiasts’ garden around Jacobean house (not open). 4½ acres\, wildflower meadows\, interesting trees\, large pond\, stream\, walled garden\, colour themed borders\, succession planting\, spinney walk with shade plants\, yew terrace overlooking meadow\, views to hills. Glasshouse and vegetable garden. Wildlife friendly\, sometimes untidy garden\, interest year-round\, continuing to develop. \n  \n\n\n\nhttps://findagarden.ngs.org.uk/garden/20864/tattenhall-hall
URL:https://tattenhallgardensociety.co.uk/event/ngs-garden-tattenhall-hall/
LOCATION:Tattenhall Hall\, High Street\, Tattenhall\, Cheshire\, CH3 9PX\, United Kingdom
CATEGORIES:NGS Garden Open
ATTACH;FMTTYPE=image/jpeg:https://tattenhallgardensociety.co.uk/wp-content/uploads/2023/04/8ED0EB07-5AE8-4835-B455-240C1D828015.jpeg
END:VEVENT
BEGIN:VEVENT
DTSTART;TZID=Europe/London:20230513T103000
DTEND;TZID=Europe/London:20230513T120000
DTSTAMP:20260425T200230
CREATED:20230412T105443Z
LAST-MODIFIED:20230508T104717Z
UID:299-1683973800-1683979200@tattenhallgardensociety.co.uk
SUMMARY:Plant Sale
DESCRIPTION:Plant Sale\n\n\n\n\n\nOn the Millfield next to the Barbour Institute. \nCome and bag yourself some plant bargains\, plus there’s always the chance of acquiring some rarity you’ve been after for ages.  Plus growing advice \, of course! \nDonations of plants are gratefully accepted\, so please can we ask for your generosity once again in potting up spare bits of plants or seedlings?   \nIf you have anything to drop off\, please can you bring it to the Millfield between 9.00-10.30?  The earlier the better as we will need time to sort and price donations before the opening time. Labels with the plant name and variety are always appreciated. \nThis year we are going to tape off the sales area until 10.30am\, so although you’re very welcome to look around before the Sale opens we won’t be reserving plants or doing advance sales.  This is so that everyone who turns up on time has a fair chance of being able to bag their selections. \n Profits from the Plant Sale help to pay for the Village Show
URL:https://tattenhallgardensociety.co.uk/event/plant-sale/
LOCATION:The Barbour Institute – The Millfield\, High Street\, Tattenhall\, Cheshire\, CH3 9PX\, United Kingdom
ATTACH;FMTTYPE=image/jpeg:https://tattenhallgardensociety.co.uk/wp-content/uploads/2023/04/E3EBF015-A724-4715-A903-CD5EB60C23EE.jpeg
END:VEVENT
BEGIN:VEVENT
DTSTART;TZID=Europe/London:20230510T183000
DTEND;TZID=Europe/London:20230510T183000
DTSTAMP:20260425T200230
CREATED:20230412T134838Z
LAST-MODIFIED:20230508T112312Z
UID:339-1683743400-1683743400@tattenhallgardensociety.co.uk
SUMMARY:WALK:  Foraging for Herbs and Well Being - an evening walk around Tattenhall
DESCRIPTION:Barbara Wilkinson (DBTh MURHP) \n\n\n\n\n\n  \nBarbara will take us on an early evening foraging hunt around the village for plants and herbs that can benefit our well being. \nMeet in front of the Barbour Institute at the earlier time of 6.30pm\, we will return to the Barbour for herby teas and a short talk. \nPlease come suitably dressed for whatever the weather decides to throw at us – suitable clothes and footwear – the walk will go ahead come rain or shine. \nAlso bring your own bag to collect your foraged goodies. \n  \nBarbara Wilkinson is a Consultant Medical Herbalist and a trustee of the Herb Society.
URL:https://tattenhallgardensociety.co.uk/event/foraging-for-herbs-and-well-being/
LOCATION:The Barbour Institute\, High Street\, Tattenhall\, Cheshire\, CH3 9PX\, United Kingdom
CATEGORIES:Walk
ATTACH;FMTTYPE=image/webp:https://tattenhallgardensociety.co.uk/wp-content/uploads/2023/04/03265DC3-C4FD-4DD6-AFA4-C700BD64E5EC.webp
END:VEVENT
BEGIN:VEVENT
DTSTART;TZID=Europe/London:20230412T194500
DTEND;TZID=Europe/London:20230412T210000
DTSTAMP:20260425T200230
CREATED:20230412T104130Z
LAST-MODIFIED:20230412T141820Z
UID:292-1681328700-1681333200@tattenhallgardensociety.co.uk
SUMMARY:TALK:   Flower Design - Inspired by Landscape
DESCRIPTION:Lucy Hunter \n\n\n\n\n\nApril’s talk will be a demonstration by Lucy Hunter of how she makes her exquisite flower arrangements.  Although ‘flower arrangements’ doesn’t really do either Lucy or the arrangements any justice as there’s so much more to it than flowers in a vase. You can find out more on her website https://www.lucyhunter.co.uk/ or on instagram https://www.instagram.com/lucytheflowerhunter/?hl=en 
URL:https://tattenhallgardensociety.co.uk/event/292/
LOCATION:The Barbour Institute – Main Hall\, High Street\, Tattenhall\, Cheshire\, CH3 9PX\, United Kingdom
CATEGORIES:Talk
ATTACH;FMTTYPE=image/jpeg:https://tattenhallgardensociety.co.uk/wp-content/uploads/2023/04/0128D498-C6AF-4F53-8E0D-0F8727CE7D1B.jpeg
END:VEVENT
BEGIN:VEVENT
DTSTART;TZID=Europe/London:20220904T143000
DTEND;TZID=Europe/London:20220904T160000
DTSTAMP:20260425T200230
CREATED:20220817T201208Z
LAST-MODIFIED:20240701T153404Z
UID:83-1662301800-1662307200@tattenhallgardensociety.co.uk
SUMMARY:Village Show
DESCRIPTION:The doors open at 9am\, and exhibitors are invited to lodge their entry forms by 11.30am at the latest and have their exhibits staged by 12 noon. \nThe hall and exhibit rooms will be closed at noon to allow judging to take place. \nThe doors will re-open at 2.30pm when exhibitors can discover their fate and the public can view all the exhibits. \nPrize giving will take place in the hall at approximately 3.00pm\, after which exhibitors can collect their exhibits. All exhibits to be collected by 4.00pm. \nNo cost to enter exhibits\, a £1 entry fee to view exhibits (free for kids)
URL:https://tattenhallgardensociety.co.uk/event/village-show/
LOCATION:The Barbour Institute – Main Hall\, High Street\, Tattenhall\, Cheshire\, CH3 9PX\, United Kingdom
CATEGORIES:Village Show
END:VEVENT
END:VCALENDAR