BEGIN:VCALENDAR
VERSION:2.0
PRODID:-//TGS01 - ECPv6.15.20//NONSGML v1.0//EN
CALSCALE:GREGORIAN
METHOD:PUBLISH
X-WR-CALNAME:TGS01
X-ORIGINAL-URL:https://tattenhallgardensociety.co.uk
X-WR-CALDESC:Events for TGS01
REFRESH-INTERVAL;VALUE=DURATION:PT1H
X-Robots-Tag:noindex
X-PUBLISHED-TTL:PT1H
BEGIN:VTIMEZONE
TZID:Europe/London
BEGIN:DAYLIGHT
TZOFFSETFROM:+0000
TZOFFSETTO:+0100
TZNAME:BST
DTSTART:20230326T010000
END:DAYLIGHT
BEGIN:STANDARD
TZOFFSETFROM:+0100
TZOFFSETTO:+0000
TZNAME:GMT
DTSTART:20231029T010000
END:STANDARD
BEGIN:DAYLIGHT
TZOFFSETFROM:+0000
TZOFFSETTO:+0100
TZNAME:BST
DTSTART:20240331T010000
END:DAYLIGHT
BEGIN:STANDARD
TZOFFSETFROM:+0100
TZOFFSETTO:+0000
TZNAME:GMT
DTSTART:20241027T010000
END:STANDARD
BEGIN:DAYLIGHT
TZOFFSETFROM:+0000
TZOFFSETTO:+0100
TZNAME:BST
DTSTART:20250330T010000
END:DAYLIGHT
BEGIN:STANDARD
TZOFFSETFROM:+0100
TZOFFSETTO:+0000
TZNAME:GMT
DTSTART:20251026T010000
END:STANDARD
END:VTIMEZONE
BEGIN:VEVENT
DTSTART;TZID=Europe/London:20241009T194500
DTEND;TZID=Europe/London:20241009T210000
DTSTAMP:20260422T105412
CREATED:20241010T175114Z
LAST-MODIFIED:20241010T175116Z
UID:1661-1728503100-1728507600@tattenhallgardensociety.co.uk
SUMMARY:TALK: THE (APPLE) TREES AND THE BEES
DESCRIPTION:James Ellson is a writer\, smallholder\, and bee keeper. \nHe will be talking about the symbiotic relationships between honeybees\, apple trees and humans. \nFor more further information about James and his smallholding in the Peak District please see his website https://jamesellson.com/ \n 
URL:https://tattenhallgardensociety.co.uk/event/talk-the-apple-trees-and-the-bees/
LOCATION:The Barbour Institute – Billiard Room\, High Street\, Tattenhall\, Cheshire\, CH3\, United Kingdom
CATEGORIES:Talk
ATTACH;FMTTYPE=image/jpeg:https://tattenhallgardensociety.co.uk/wp-content/uploads/2024/10/2024-Oct-James-Ellson-Poster-1-1.jpg
END:VEVENT
END:VCALENDAR